BEGIN:VCALENDAR
VERSION:2.0
PRODID:-//Illinois Conference, United Church of Christ - ECPv3.11.2//NONSGML v1.0//EN
CALSCALE:GREGORIAN
METHOD:PUBLISH
X-WR-CALNAME:Illinois Conference, United Church of Christ
X-ORIGINAL-URL:https://eastern.ilucc.org
X-WR-CALDESC:Events for Illinois Conference, United Church of Christ
BEGIN:VEVENT
DTSTART:20190507T220000Z
DTEND:20190509T180000Z
DTSTAMP:20260424T194604Z
CREATED:20190409T224004Z
LAST-MODIFIED:20190409T225913Z
UID:4216-1557266400-1557424800@eastern.ilucc.org
SUMMARY:Spanda Clergy Retreat
DESCRIPTION:Spanda Clergy Retreat led by Professional Certified Coach Rev. Brandyn Simmons\, MBA\, MGCM\, PCC.  A retreat for clergy who are burnt out\, heading there\, or just want to get healthy.  In this retreat we will get recentered\, experience solitude\, find our True Self\, and design a life/vocation around that True Self.  Retreat will be held on May 7 – May 9\, 2019 at Pilgrim Park Camp\, Princeton\, Ill.\n\nSponsored by the Illinois Conference UCC.\n\nView additional information and agenda here!\n\nRegister online!
URL:https://eastern.ilucc.org/event/spanda-clergy-retreat-3/
LOCATION:26449 1340 N Avenue\, Princeton\, IL\, 61356\, United States
CATEGORIES:all
ORGANIZER;CN="Brandyn%20Simmons":MAILTO:brandyn@brandynsimmons.com
END:VEVENT
BEGIN:VEVENT
DTSTART:20190509T140000Z
DTEND:20190509T230000Z
DTSTAMP:20260424T194604Z
CREATED:20190504T012035Z
LAST-MODIFIED:20190504T012251Z
UID:4285-1557410400-1557442800@eastern.ilucc.org
SUMMARY:Mental Health First Aid in Your Faith Community
DESCRIPTION:\n\n\n\nMental Health First Aid is an 8-hour course that teaches you how to identify\, understand and respond to signs of mental illnesses and substance use disorders. The training gives you the skills you need to reach out and provide initial help and support to someone who may be developing a mental health or substance use problem or experiencing a crisis.\n\nMental Health First Aid in Your Faith Community on Thursday\, May 9\, 2019\, 8:00 am to 5:00 p.m. at Advocate Health Care Support Center 3075 Highland Parkway\, Concourse Training Room 2\, Downers Grove\, IL 60515.\n\nThis event is free thanks to the generous support of the Community Memorial Foundation and NAMI. Register at https://faithmentalhealthfirstaid.eventbrite.com.\n\n\n\n
URL:https://eastern.ilucc.org/event/mental-health-first-aid-in-your-faith-community-2/
LOCATION:IL
CATEGORIES:all
END:VEVENT
END:VCALENDAR