BEGIN:VCALENDAR
VERSION:2.0
PRODID:-//Illinois Conference, United Church of Christ - ECPv3.11.2//NONSGML v1.0//EN
CALSCALE:GREGORIAN
METHOD:PUBLISH
X-WR-CALNAME:Illinois Conference, United Church of Christ
X-ORIGINAL-URL:https://eastern.ilucc.org
X-WR-CALDESC:Events for Illinois Conference, United Church of Christ
BEGIN:VEVENT
DTSTART:20250731T230000Z
DTEND:20250801T003000Z
DTSTAMP:20260420T070500Z
CREATED:20250627T192250Z
LAST-MODIFIED:20250627T192250Z
UID:8057-1754002800-1754008200@eastern.ilucc.org
SUMMARY:Annual Celebration Planning Committee
DESCRIPTION:The Illinois Conference Annual Celebration Planning Committee will meet at 5:00 p.m. via Zoom. Information for accessing the Zoom meeting will be sent directly to committee members along with other documents needed for the meeting.
URL:https://eastern.ilucc.org/event/annual-celebration-planning-committee-6/
CATEGORIES:all
END:VEVENT
END:VCALENDAR