BEGIN:VCALENDAR
VERSION:2.0
PRODID:-//Illinois Conference, United Church of Christ - ECPv3.11.2//NONSGML v1.0//EN
CALSCALE:GREGORIAN
METHOD:PUBLISH
X-WR-CALNAME:Illinois Conference, United Church of Christ
X-ORIGINAL-URL:https://eastern.ilucc.org
X-WR-CALDESC:Events for Illinois Conference, United Church of Christ
BEGIN:VEVENT
DTSTART:20250916T150000Z
DTEND:20250916T170000Z
DTSTAMP:20260420T050959Z
CREATED:20250725T143831Z
LAST-MODIFIED:20250725T143831Z
UID:8113-1758034800-1758042000@eastern.ilucc.org
SUMMARY:WA Committee on Ministry
DESCRIPTION:The Western Association Committee on Ministry will meet at 9:00 a.m. via Zoom. Information for accessing the Zoom meeting will be sent directly to committee members along with other documents needed for the meeting.
URL:https://eastern.ilucc.org/event/wa-committee-on-ministry-40/
CATEGORIES:Illinois Conference,Western Association
END:VEVENT
BEGIN:VEVENT
DTSTART:20250916T150000Z
DTEND:20250916T170000Z
DTSTAMP:20260420T050959Z
CREATED:20250725T144059Z
LAST-MODIFIED:20250725T144802Z
UID:8116-1758034800-1758042000@eastern.ilucc.org
SUMMARY:FAB Meeting
DESCRIPTION:The Illinois Conference Finance\, Administration\, and Business (FAB) Committee will meet at 9:00 a.m. via Zoom. Information for accessing the Zoom meeting will be sent directly to committee members along with other documents needed for the meeting.
URL:https://eastern.ilucc.org/event/fab-meeting-37/
CATEGORIES:all
END:VEVENT
BEGIN:VEVENT
DTSTART:20250917T003000Z
DTEND:20250917T023000Z
DTSTAMP:20260420T050959Z
CREATED:20250725T144417Z
LAST-MODIFIED:20250725T144417Z
UID:8119-1758069000-1758076200@eastern.ilucc.org
SUMMARY:CMA Council Meeting
DESCRIPTION:The Chicago Metropolitan Association Council will meet at 6:30 p.m. via Zoom. Information for accessing the Zoom meeting will be sent directly to council members along with other documents needed for the meeting.
URL:https://eastern.ilucc.org/event/cma-council-meeting-14/
CATEGORIES:Chicago Metropolitan Association,Illinois Conference
END:VEVENT
END:VCALENDAR